BEGIN:VCALENDAR
VERSION:2.0
PRODID:Imitheme.com 
BEGIN:VEVENT
UID:20260421T0947261975329710
DTSTAMP;TZID=UTC:2026-04-21 09:47:26
DTSTART;TZID=America/Los_Angeles:20260408T000000
DTEND;TZID=America/Los_Angeles:20260408T000000
SUMMARY:Youth Group   
LOCATION:23291 County Highway AA\, Richland Center\, WI\, USA
DESCRIPTION:Wednesdays 6:30-8:00 p.m. | Starts September 10 | All Students 6-12th Grade
URL:https://lifeofgrace.org/eventer/youth-group/
END:VEVENT
END:VCALENDAR
